BEGIN:VCALENDAR
VERSION:2.0
PRODID:-//hacksw/handcal//NONSGML v1.0//EN
CALSCALE:GREGORIAN
BEGIN:VEVENT
LOCATION:Tamory Hall\, 616 Franklin St. Suite A\, Pella\, IA
DESCRIPTION:
DTSTART:20250117T183000
DTEND:20250117T203000
SUMMARY:Comedian Nathan Timmel
URL;VALUE=URI:https://www.visitpella.com/events/comedian_nathan_timmel/2025-01-17/
DTSTAMP:20260424T111046
UID:69eb9606324d3
END:VEVENT
END:VCALENDAR