BEGIN:VCALENDAR
VERSION:2.0
PRODID:-//hacksw/handcal//NONSGML v1.0//EN
CALSCALE:GREGORIAN
BEGIN:VEVENT
LOCATION:Pella Historical Village\, Scholte Gardens\, Downtown Pella\, 507 Franklin Street\, Pella\, IA
DESCRIPTION:
DTSTART:20260502T100000
DTEND:20260502T190000
SUMMARY:King's Day In Pella
URL;VALUE=URI:https://www.visitpella.com/events/kings_day_in_pella/2026-05-02/
DTSTAMP:20260420T100702
UID:69e6411616290
END:VEVENT
END:VCALENDAR