BEGIN:VCALENDAR
VERSION:2.0
PRODID:-//hacksw/handcal//NONSGML v1.0//EN
CALSCALE:GREGORIAN
BEGIN:VEVENT
LOCATION:Roberts Creek\, 
DESCRIPTION:
DTSTART:20240719T170000
DTEND:20240719T190000
SUMMARY:Lake Red Rock- Let&#039\;s Go Paddling
URL;VALUE=URI:https://www.visitpella.com/events/lake_red_rock_lets_go_paddling/2024-07-19/
DTSTAMP:20260424T181348
UID:69ebf92cb37bb
END:VEVENT
END:VCALENDAR