BEGIN:VCALENDAR
VERSION:2.0
PRODID:-//hacksw/handcal//NONSGML v1.0//EN
CALSCALE:GREGORIAN
BEGIN:VEVENT
LOCATION:Pella Opera House\, 611 Franklin Street\, Pella\, IA
DESCRIPTION:
DTSTART:20241207T130000
DTEND:20241207T200000
SUMMARY:Merry Martini Huis at the Pella Opera House
URL;VALUE=URI:https://www.visitpella.com/events/merry_martini_huis_at_the_pella_opera_house/2024-12-07/
DTSTAMP:20260423T010334
UID:69e9b6366d843
END:VEVENT
END:VCALENDAR