BEGIN:VCALENDAR
VERSION:2.0
PRODID:-//hacksw/handcal//NONSGML v1.0//EN
CALSCALE:GREGORIAN
BEGIN:VEVENT
LOCATION:Pella\, Iowa\, 507 Franklin Street\, Pella\, IA
DESCRIPTION:
DTSTART:20250501T000000
DTEND:20250503T000000
SUMMARY:Pella&#039\;s Annual Tulip Time Festival
URL;VALUE=URI:https://www.visitpella.com/events/pellas_annual_tulip_time_festival/2025-05-01/
DTSTAMP:20260421T111714
UID:69e7a30a2f8a3
END:VEVENT
END:VCALENDAR