BEGIN:VCALENDAR
VERSION:2.0
PRODID:-//hacksw/handcal//NONSGML v1.0//EN
CALSCALE:GREGORIAN
BEGIN:VEVENT
LOCATION:Downtown Pella\, 
DESCRIPTION:
DTSTART:20260626T160000
DTEND:20260626T200000
SUMMARY:Pella's Annual Wine Walk
URL;VALUE=URI:https://www.visitpella.com/events/pellas_annual_wine_walk/2026-06-26/
DTSTAMP:20260424T120436
UID:69eba2a453d7d
END:VEVENT
END:VCALENDAR