BEGIN:VCALENDAR
VERSION:2.0
PRODID:-//hacksw/handcal//NONSGML v1.0//EN
CALSCALE:GREGORIAN
BEGIN:VEVENT
LOCATION:Downtown Pella\, 
DESCRIPTION:
DTSTART:20260627T100000
DTEND:20260627T160000
SUMMARY:Pella's Art Walk
URL;VALUE=URI:https://www.visitpella.com/events/pellas_art_walk/2026-06-27/
DTSTAMP:20260424T131654
UID:69ebb3967b3cd
END:VEVENT
END:VCALENDAR