BEGIN:VCALENDAR
VERSION:2.0
PRODID:-//hacksw/handcal//NONSGML v1.0//EN
CALSCALE:GREGORIAN
BEGIN:VEVENT
LOCATION:Pella Opera House\, 611 Franklin Street\, Pella\, IA
DESCRIPTION:
DTSTART:20240502T160000
DTEND:20240502T173000
SUMMARY:TULIP TIME: The Matt Barber Experience
URL;VALUE=URI:https://www.visitpella.com/events/tulip_time_the_matt_barber_experience/2024-05-02/
DTSTAMP:20260419T104337
UID:69e4f829aa731
END:VEVENT
END:VCALENDAR