BEGIN:VCALENDAR
VERSION:2.0
PRODID:-//hacksw/handcal//NONSGML v1.0//EN
CALSCALE:GREGORIAN
BEGIN:VEVENT
LOCATION:Downtown Pella\, Downtown Pella\, Pella\, IA
DESCRIPTION:
DTSTART:20231006T160000
DTEND:20231006T200000
SUMMARY:Wine Walk
URL;VALUE=URI:https://www.visitpella.com/events/wine_walk/2023-10-06/
DTSTAMP:20260423T012958
UID:69e9bc6614686
END:VEVENT
END:VCALENDAR